BEGIN:VCALENDAR
VERSION:2.0
PRODID:-//3C Cowboy Fellowship - ECPv6.15.20//NONSGML v1.0//EN
CALSCALE:GREGORIAN
METHOD:PUBLISH
X-ORIGINAL-URL:https://3ccowboyfellowship.com
X-WR-CALDESC:Events for 3C Cowboy Fellowship
REFRESH-INTERVAL;VALUE=DURATION:PT1H
X-Robots-Tag:noindex
X-PUBLISHED-TTL:PT1H
BEGIN:VTIMEZONE
TZID:America/Chicago
BEGIN:DAYLIGHT
TZOFFSETFROM:-0600
TZOFFSETTO:-0500
TZNAME:CDT
DTSTART:20250309T080000
END:DAYLIGHT
BEGIN:STANDARD
TZOFFSETFROM:-0500
TZOFFSETTO:-0600
TZNAME:CST
DTSTART:20251102T070000
END:STANDARD
BEGIN:DAYLIGHT
TZOFFSETFROM:-0600
TZOFFSETTO:-0500
TZNAME:CDT
DTSTART:20260308T080000
END:DAYLIGHT
BEGIN:STANDARD
TZOFFSETFROM:-0500
TZOFFSETTO:-0600
TZNAME:CST
DTSTART:20261101T070000
END:STANDARD
BEGIN:DAYLIGHT
TZOFFSETFROM:-0600
TZOFFSETTO:-0500
TZNAME:CDT
DTSTART:20270314T080000
END:DAYLIGHT
BEGIN:STANDARD
TZOFFSETFROM:-0500
TZOFFSETTO:-0600
TZNAME:CST
DTSTART:20271107T070000
END:STANDARD
END:VTIMEZONE
BEGIN:VEVENT
DTSTART;TZID=America/Chicago:20260104T100000
DTEND;TZID=America/Chicago:20260104T110000
DTSTAMP:20260423T152737
CREATED:20251229T154049Z
LAST-MODIFIED:20251229T154049Z
UID:5455-1767520800-1767524400@3ccowboyfellowship.com
SUMMARY:3C Service
DESCRIPTION:
URL:https://3ccowboyfellowship.com/3c-event/3c-service-22/
LOCATION:3C Cowboy Fellowship\, 16258 Gooseneck Rd.\, Salado\, TX\, 76571\, United States
ATTACH;FMTTYPE=image/jpeg:https://3ccowboyfellowship.com/wp-content/uploads/2023/11/sunset-with-three-crosses2.jpg
END:VEVENT
BEGIN:VEVENT
DTSTART;TZID=America/Chicago:20260104T110000
DTEND;TZID=America/Chicago:20260104T120000
DTSTAMP:20260423T152737
CREATED:20251229T154202Z
LAST-MODIFIED:20251229T154252Z
UID:5457-1767524400-1767528000@3ccowboyfellowship.com
SUMMARY:Children's Team
DESCRIPTION:
URL:https://3ccowboyfellowship.com/3c-event/childrens-team-2/
LOCATION:3C Cowboy Fellowship\, 16258 Gooseneck Rd.\, Salado\, TX\, 76571\, United States
END:VEVENT
BEGIN:VEVENT
DTSTART;TZID=America/Chicago:20260105T180000
DTEND;TZID=America/Chicago:20260105T190000
DTSTAMP:20260423T152737
CREATED:20251229T154457Z
LAST-MODIFIED:20251229T154518Z
UID:5459-1767636000-1767639600@3ccowboyfellowship.com
SUMMARY:Mending Fences (Meal 5:30) (Missions)
DESCRIPTION:
URL:https://3ccowboyfellowship.com/3c-event/mending-fences-meal-530-16/
LOCATION:3C Cowboy Fellowship\, 16258 Gooseneck Rd.\, Salado\, TX\, 76571\, United States
END:VEVENT
BEGIN:VEVENT
DTSTART;TZID=America/Chicago:20260106T190000
DTEND;TZID=America/Chicago:20260106T200000
DTSTAMP:20260423T152737
CREATED:20260111T185446Z
LAST-MODIFIED:20260111T185446Z
UID:5522-1767726000-1767729600@3ccowboyfellowship.com
SUMMARY:Music & Sound
DESCRIPTION:
URL:https://3ccowboyfellowship.com/3c-event/music-sound/
LOCATION:3C Cowboy Fellowship\, 16258 Gooseneck Rd.\, Salado\, TX\, 76571\, United States
END:VEVENT
BEGIN:VEVENT
DTSTART;TZID=America/Chicago:20260107T180000
DTEND;TZID=America/Chicago:20260107T190000
DTSTAMP:20260423T152737
CREATED:20251229T154809Z
LAST-MODIFIED:20251229T154809Z
UID:5464-1767808800-1767812400@3ccowboyfellowship.com
SUMMARY:Prayer Group
DESCRIPTION:
URL:https://3ccowboyfellowship.com/3c-event/prayer-group-4/
LOCATION:3C Cowboy Fellowship\, 16258 Gooseneck Rd.\, Salado\, TX\, 76571\, United States
ATTACH;FMTTYPE=image/jpeg:https://3ccowboyfellowship.com/wp-content/uploads/2020/02/bigstock-216411673.jpg
END:VEVENT
BEGIN:VEVENT
DTSTART;TZID=America/Chicago:20260107T180000
DTEND;TZID=America/Chicago:20260107T200000
DTSTAMP:20260423T152737
CREATED:20251229T154702Z
LAST-MODIFIED:20251229T161355Z
UID:5462-1767808800-1767816000@3ccowboyfellowship.com
SUMMARY:Pre-Teen / Youth (Kitchen Team)
DESCRIPTION:
URL:https://3ccowboyfellowship.com/3c-event/pre-teen-youth-9/
LOCATION:3C Cowboy Fellowship\, 16258 Gooseneck Rd.\, Salado\, TX\, 76571\, United States
END:VEVENT
BEGIN:VEVENT
DTSTART;TZID=America/Chicago:20260110T090000
DTEND;TZID=America/Chicago:20260110T110000
DTSTAMP:20260423T152737
CREATED:20251229T154910Z
LAST-MODIFIED:20251229T154910Z
UID:5466-1768035600-1768042800@3ccowboyfellowship.com
SUMMARY:Ladies Bible Study
DESCRIPTION:
URL:https://3ccowboyfellowship.com/3c-event/ladies-bible-study-8/
LOCATION:3C Cowboy Fellowship\, 16258 Gooseneck Rd.\, Salado\, TX\, 76571\, United States
END:VEVENT
BEGIN:VEVENT
DTSTART;TZID=America/Chicago:20260110T110000
DTEND;TZID=America/Chicago:20260110T130000
DTSTAMP:20260423T152737
CREATED:20251229T155111Z
LAST-MODIFIED:20251229T155111Z
UID:5468-1768042800-1768050000@3ccowboyfellowship.com
SUMMARY:Remove Christmas Decorations Church
DESCRIPTION:
URL:https://3ccowboyfellowship.com/3c-event/remove-christmas-decorations-church/
LOCATION:3C Cowboy Fellowship\, 16258 Gooseneck Rd.\, Salado\, TX\, 76571\, United States
END:VEVENT
BEGIN:VEVENT
DTSTART;TZID=America/Chicago:20260111T100000
DTEND;TZID=America/Chicago:20260111T110000
DTSTAMP:20260423T152737
CREATED:20251229T155250Z
LAST-MODIFIED:20251229T155250Z
UID:5470-1768125600-1768129200@3ccowboyfellowship.com
SUMMARY:3C Service
DESCRIPTION:
URL:https://3ccowboyfellowship.com/3c-event/3c-service-23/
LOCATION:3C Cowboy Fellowship\, 16258 Gooseneck Rd.\, Salado\, TX\, 76571\, United States
ATTACH;FMTTYPE=image/jpeg:https://3ccowboyfellowship.com/wp-content/uploads/2023/11/sunset-with-three-crosses2.jpg
END:VEVENT
BEGIN:VEVENT
DTSTART;TZID=America/Chicago:20260111T110000
DTEND;TZID=America/Chicago:20260111T120000
DTSTAMP:20260423T152737
CREATED:20251229T155432Z
LAST-MODIFIED:20251229T155432Z
UID:5472-1768129200-1768132800@3ccowboyfellowship.com
SUMMARY:Leadership Team
DESCRIPTION:
URL:https://3ccowboyfellowship.com/3c-event/leadership-team-2/
LOCATION:3C Cowboy Fellowship\, 16258 Gooseneck Rd.\, Salado\, TX\, 76571\, United States
END:VEVENT
BEGIN:VEVENT
DTSTART;TZID=America/Chicago:20260112T180000
DTEND;TZID=America/Chicago:20260112T190000
DTSTAMP:20260423T152737
CREATED:20251229T155538Z
LAST-MODIFIED:20251229T155538Z
UID:5474-1768240800-1768244400@3ccowboyfellowship.com
SUMMARY:Mending Fences (Meal 5:30) (Chuck Wagon)
DESCRIPTION:
URL:https://3ccowboyfellowship.com/3c-event/mending-fences-meal-530-chuck-wagon-2/
LOCATION:3C Cowboy Fellowship\, 16258 Gooseneck Rd.\, Salado\, TX\, 76571\, United States
END:VEVENT
BEGIN:VEVENT
DTSTART;TZID=America/Chicago:20260113T180000
DTEND;TZID=America/Chicago:20260113T190000
DTSTAMP:20260423T152737
CREATED:20251229T155643Z
LAST-MODIFIED:20251229T155643Z
UID:5476-1768327200-1768330800@3ccowboyfellowship.com
SUMMARY:Facilities Team
DESCRIPTION:
URL:https://3ccowboyfellowship.com/3c-event/facilities-team/
LOCATION:3C Cowboy Fellowship\, 16258 Gooseneck Rd.\, Salado\, TX\, 76571\, United States
END:VEVENT
BEGIN:VEVENT
DTSTART;TZID=America/Chicago:20260113T190000
DTEND;TZID=America/Chicago:20260113T200000
DTSTAMP:20260423T152737
CREATED:20260111T185534Z
LAST-MODIFIED:20260111T185534Z
UID:5524-1768330800-1768334400@3ccowboyfellowship.com
SUMMARY:Music & Sound
DESCRIPTION:
URL:https://3ccowboyfellowship.com/3c-event/music-sound-2/
LOCATION:3C Cowboy Fellowship\, 16258 Gooseneck Rd.\, Salado\, TX\, 76571\, United States
END:VEVENT
BEGIN:VEVENT
DTSTART;VALUE=DATE:20260114
DTEND;VALUE=DATE:20260115
DTSTAMP:20260423T152737
CREATED:20260111T185205Z
LAST-MODIFIED:20260111T185205Z
UID:5520-1768348800-1768435199@3ccowboyfellowship.com
SUMMARY:Chuck Wagon
DESCRIPTION:
URL:https://3ccowboyfellowship.com/3c-event/chuck-wagon/
LOCATION:3C Cowboy Fellowship\, 16258 Gooseneck Rd.\, Salado\, TX\, 76571\, United States
END:VEVENT
BEGIN:VEVENT
DTSTART;TZID=America/Chicago:20260114T180000
DTEND;TZID=America/Chicago:20260114T190000
DTSTAMP:20260423T152737
CREATED:20251229T160335Z
LAST-MODIFIED:20251229T160335Z
UID:5489-1768413600-1768417200@3ccowboyfellowship.com
SUMMARY:Prayer Group
DESCRIPTION:
URL:https://3ccowboyfellowship.com/3c-event/prayer-group-5/
LOCATION:3C Cowboy Fellowship\, 16258 Gooseneck Rd.\, Salado\, TX\, 76571\, United States
END:VEVENT
BEGIN:VEVENT
DTSTART;TZID=America/Chicago:20260114T180000
DTEND;TZID=America/Chicago:20260114T200000
DTSTAMP:20260423T152737
CREATED:20251229T155747Z
LAST-MODIFIED:20251229T161314Z
UID:5478-1768413600-1768420800@3ccowboyfellowship.com
SUMMARY:Pre-Teen / Youth (Chuck Wagon)
DESCRIPTION:
URL:https://3ccowboyfellowship.com/3c-event/pre-teen-youth-10/
LOCATION:3C Cowboy Fellowship\, 16258 Gooseneck Rd.\, Salado\, TX\, 76571\, United States
END:VEVENT
BEGIN:VEVENT
DTSTART;TZID=America/Chicago:20260118T100000
DTEND;TZID=America/Chicago:20260118T110000
DTSTAMP:20260423T152737
CREATED:20251229T155839Z
LAST-MODIFIED:20251229T155839Z
UID:5480-1768730400-1768734000@3ccowboyfellowship.com
SUMMARY:3C Service
DESCRIPTION:
URL:https://3ccowboyfellowship.com/3c-event/3c-service-24/
LOCATION:3C Cowboy Fellowship\, 16258 Gooseneck Rd.\, Salado\, TX\, 76571\, United States
ATTACH;FMTTYPE=image/jpeg:https://3ccowboyfellowship.com/wp-content/uploads/2023/11/sunset-with-three-crosses2.jpg
END:VEVENT
BEGIN:VEVENT
DTSTART;TZID=America/Chicago:20260118T110000
DTEND;TZID=America/Chicago:20260118T120000
DTSTAMP:20260423T152737
CREATED:20251229T155925Z
LAST-MODIFIED:20251229T155925Z
UID:5482-1768734000-1768737600@3ccowboyfellowship.com
SUMMARY:Watchdog Team
DESCRIPTION:
URL:https://3ccowboyfellowship.com/3c-event/watchdog-team/
LOCATION:3C Cowboy Fellowship\, 16258 Gooseneck Rd.\, Salado\, TX\, 76571\, United States
END:VEVENT
BEGIN:VEVENT
DTSTART;TZID=America/Chicago:20260119T180000
DTEND;TZID=America/Chicago:20260119T190000
DTSTAMP:20260423T152737
CREATED:20251229T160140Z
LAST-MODIFIED:20251229T160140Z
UID:5485-1768845600-1768849200@3ccowboyfellowship.com
SUMMARY:Mending Fences (Meal 5:30) (Kitchen Team)
DESCRIPTION:
URL:https://3ccowboyfellowship.com/3c-event/mending-fences-meal-530-kitchen-team-2/
LOCATION:3C Cowboy Fellowship\, 16258 Gooseneck Rd.\, Salado\, TX\, 76571\, United States
END:VEVENT
BEGIN:VEVENT
DTSTART;TZID=America/Chicago:20260120T190000
DTEND;TZID=America/Chicago:20260120T200000
DTSTAMP:20260423T152737
CREATED:20260111T185614Z
LAST-MODIFIED:20260111T185614Z
UID:5526-1768935600-1768939200@3ccowboyfellowship.com
SUMMARY:Music & Sound
DESCRIPTION:
URL:https://3ccowboyfellowship.com/3c-event/music-sound-9/
LOCATION:3C Cowboy Fellowship\, 16258 Gooseneck Rd.\, Salado\, TX\, 76571\, United States
END:VEVENT
BEGIN:VEVENT
DTSTART;TZID=America/Chicago:20260121T180000
DTEND;TZID=America/Chicago:20260121T190000
DTSTAMP:20260423T152737
CREATED:20251229T160412Z
LAST-MODIFIED:20251229T160412Z
UID:5491-1769018400-1769022000@3ccowboyfellowship.com
SUMMARY:Prayer Group
DESCRIPTION:
URL:https://3ccowboyfellowship.com/3c-event/prayer-group-6/
LOCATION:3C Cowboy Fellowship\, 16258 Gooseneck Rd.\, Salado\, TX\, 76571\, United States
END:VEVENT
BEGIN:VEVENT
DTSTART;TZID=America/Chicago:20260121T180000
DTEND;TZID=America/Chicago:20260121T200000
DTSTAMP:20260423T152737
CREATED:20251229T160238Z
LAST-MODIFIED:20251229T161237Z
UID:5487-1769018400-1769025600@3ccowboyfellowship.com
SUMMARY:Pre-Teen / Youth (Children's Team)
DESCRIPTION:
URL:https://3ccowboyfellowship.com/3c-event/pre-teen-youth-11/
LOCATION:3C Cowboy Fellowship\, 16258 Gooseneck Rd.\, Salado\, TX\, 76571\, United States
END:VEVENT
BEGIN:VEVENT
DTSTART;TZID=America/Chicago:20260124T080000
DTEND;TZID=America/Chicago:20260124T220000
DTSTAMP:20260423T152737
CREATED:20260111T184812Z
LAST-MODIFIED:20260121T181808Z
UID:5518-1769241600-1769292000@3ccowboyfellowship.com
SUMMARY:Men's Prayer Breakfast (Canceled Due To Weather)
DESCRIPTION:
URL:https://3ccowboyfellowship.com/3c-event/mens-prayer-breakfast/
LOCATION:3C Cowboy Fellowship\, 16258 Gooseneck Rd.\, Salado\, TX\, 76571\, United States
END:VEVENT
BEGIN:VEVENT
DTSTART;TZID=America/Chicago:20260124T090000
DTEND;TZID=America/Chicago:20260124T100000
DTSTAMP:20260423T152737
CREATED:20260119T214738Z
LAST-MODIFIED:20260119T220053Z
UID:5539-1769245200-1769248800@3ccowboyfellowship.com
SUMMARY:Ladies Bible Study (Canceled Due To Weather)
DESCRIPTION:
URL:https://3ccowboyfellowship.com/3c-event/ladies-bible-study-cancelled-due-to-weather/
LOCATION:3C Cowboy Fellowship\, 16258 Gooseneck Rd.\, Salado\, TX\, 76571\, United States
END:VEVENT
BEGIN:VEVENT
DTSTART;TZID=America/Chicago:20260124T130000
DTEND;TZID=America/Chicago:20260124T150000
DTSTAMP:20260423T152737
CREATED:20260122T163424Z
LAST-MODIFIED:20260122T163424Z
UID:5626-1769259600-1769266800@3ccowboyfellowship.com
SUMMARY:Barrel Races (Canceled due to weather)
DESCRIPTION:
URL:https://3ccowboyfellowship.com/3c-event/barrel-races-canceled-due-to-weather/
LOCATION:3C Cowboy Fellowship\, 16258 Gooseneck Rd.\, Salado\, TX\, 76571\, United States
END:VEVENT
BEGIN:VEVENT
DTSTART;VALUE=DATE:20260125
DTEND;VALUE=DATE:20260126
DTSTAMP:20260423T152737
CREATED:20251229T161629Z
LAST-MODIFIED:20251229T161629Z
UID:5509-1769299200-1769385599@3ccowboyfellowship.com
SUMMARY:Lord's Supper
DESCRIPTION:
URL:https://3ccowboyfellowship.com/3c-event/lords-supper-4/
LOCATION:3C Cowboy Fellowship\, 16258 Gooseneck Rd.\, Salado\, TX\, 76571\, United States
END:VEVENT
BEGIN:VEVENT
DTSTART;TZID=America/Chicago:20260125T100000
DTEND;TZID=America/Chicago:20260125T110000
DTSTAMP:20260423T152737
CREATED:20251229T160457Z
LAST-MODIFIED:20260122T204909Z
UID:5493-1769335200-1769338800@3ccowboyfellowship.com
SUMMARY:3C Service (Weather Related Info on 3C website front page and Facebook.)
DESCRIPTION:
URL:https://3ccowboyfellowship.com/3c-event/3c-service-25/
LOCATION:3C Cowboy Fellowship\, 16258 Gooseneck Rd.\, Salado\, TX\, 76571\, United States
ATTACH;FMTTYPE=image/jpeg:https://3ccowboyfellowship.com/wp-content/uploads/2023/11/sunset-with-three-crosses2.jpg
END:VEVENT
BEGIN:VEVENT
DTSTART;TZID=America/Chicago:20260125T110000
DTEND;TZID=America/Chicago:20260125T120000
DTSTAMP:20260423T152737
CREATED:20251229T160639Z
LAST-MODIFIED:20251229T160639Z
UID:5496-1769338800-1769342400@3ccowboyfellowship.com
SUMMARY:Ladies Team
DESCRIPTION:
URL:https://3ccowboyfellowship.com/3c-event/ladies-team/
LOCATION:TX
END:VEVENT
BEGIN:VEVENT
DTSTART;TZID=America/Chicago:20260126T180000
DTEND;TZID=America/Chicago:20260126T190000
DTSTAMP:20260423T152737
CREATED:20251229T161042Z
LAST-MODIFIED:20260122T205810Z
UID:5502-1769450400-1769454000@3ccowboyfellowship.com
SUMMARY:Mending Fences (Meal 5:30) (Ladies Team) (Canceled due to weather.)
DESCRIPTION:
URL:https://3ccowboyfellowship.com/3c-event/mending-fences-meal-530-ladies-team-2/
LOCATION:3C Cowboy Fellowship\, 16258 Gooseneck Rd.\, Salado\, TX\, 76571\, United States
END:VEVENT
BEGIN:VEVENT
DTSTART;TZID=America/Chicago:20260127T190000
DTEND;TZID=America/Chicago:20260127T200000
DTSTAMP:20260423T152737
CREATED:20260111T185649Z
LAST-MODIFIED:20260111T185649Z
UID:5528-1769540400-1769544000@3ccowboyfellowship.com
SUMMARY:Music & Sound
DESCRIPTION:
URL:https://3ccowboyfellowship.com/3c-event/music-sound-10/
LOCATION:3C Cowboy Fellowship\, 16258 Gooseneck Rd.\, Salado\, TX\, 76571\, United States
END:VEVENT
END:VCALENDAR