BEGIN:VCALENDAR
VERSION:2.0
PRODID:-//3C Cowboy Fellowship - ECPv6.15.20//NONSGML v1.0//EN
CALSCALE:GREGORIAN
METHOD:PUBLISH
X-ORIGINAL-URL:https://3ccowboyfellowship.com
X-WR-CALDESC:Events for 3C Cowboy Fellowship
REFRESH-INTERVAL;VALUE=DURATION:PT1H
X-Robots-Tag:noindex
X-PUBLISHED-TTL:PT1H
BEGIN:VTIMEZONE
TZID:America/Chicago
BEGIN:DAYLIGHT
TZOFFSETFROM:-0600
TZOFFSETTO:-0500
TZNAME:CDT
DTSTART:20250309T080000
END:DAYLIGHT
BEGIN:STANDARD
TZOFFSETFROM:-0500
TZOFFSETTO:-0600
TZNAME:CST
DTSTART:20251102T070000
END:STANDARD
BEGIN:DAYLIGHT
TZOFFSETFROM:-0600
TZOFFSETTO:-0500
TZNAME:CDT
DTSTART:20260308T080000
END:DAYLIGHT
BEGIN:STANDARD
TZOFFSETFROM:-0500
TZOFFSETTO:-0600
TZNAME:CST
DTSTART:20261101T070000
END:STANDARD
BEGIN:DAYLIGHT
TZOFFSETFROM:-0600
TZOFFSETTO:-0500
TZNAME:CDT
DTSTART:20270314T080000
END:DAYLIGHT
BEGIN:STANDARD
TZOFFSETFROM:-0500
TZOFFSETTO:-0600
TZNAME:CST
DTSTART:20271107T070000
END:STANDARD
END:VTIMEZONE
BEGIN:VEVENT
DTSTART;TZID=America/Chicago:20260301T100000
DTEND;TZID=America/Chicago:20260301T110000
DTSTAMP:20260423T114005
CREATED:20260227T161807Z
LAST-MODIFIED:20260227T161807Z
UID:5800-1772359200-1772362800@3ccowboyfellowship.com
SUMMARY:3C Service
DESCRIPTION:
URL:https://3ccowboyfellowship.com/3c-event/3c-service-4/
LOCATION:3C Cowboy Fellowship\, 16258 Gooseneck Rd.\, Salado\, TX\, 76571\, United States
ATTACH;FMTTYPE=image/jpeg:https://3ccowboyfellowship.com/wp-content/uploads/2023/11/sunset-with-three-crosses.jpg
END:VEVENT
BEGIN:VEVENT
DTSTART;TZID=America/Chicago:20260301T110000
DTEND;TZID=America/Chicago:20260301T120000
DTSTAMP:20260423T114005
CREATED:20260227T161855Z
LAST-MODIFIED:20260227T161855Z
UID:5802-1772362800-1772366400@3ccowboyfellowship.com
SUMMARY:Mission Team
DESCRIPTION:
URL:https://3ccowboyfellowship.com/3c-event/mission-team/
LOCATION:3C Cowboy Fellowship\, 16258 Gooseneck Rd.\, Salado\, TX\, 76571\, United States
END:VEVENT
BEGIN:VEVENT
DTSTART;TZID=America/Chicago:20260302T180000
DTEND;TZID=America/Chicago:20260302T200000
DTSTAMP:20260423T114005
CREATED:20260227T162004Z
LAST-MODIFIED:20260227T162035Z
UID:5804-1772474400-1772481600@3ccowboyfellowship.com
SUMMARY:Mending Fences (Meal 5:30) (Mission Team)
DESCRIPTION:
URL:https://3ccowboyfellowship.com/3c-event/mending-fences-meal-530/
LOCATION:3C Cowboy Fellowship\, 16258 Gooseneck Rd.\, Salado\, TX\, 76571\, United States
END:VEVENT
BEGIN:VEVENT
DTSTART;TZID=America/Chicago:20260303T170000
DTEND;TZID=America/Chicago:20260303T200000
DTSTAMP:20260423T114005
CREATED:20260227T162123Z
LAST-MODIFIED:20260227T162123Z
UID:5807-1772557200-1772568000@3ccowboyfellowship.com
SUMMARY:Barrell Racing
DESCRIPTION:
URL:https://3ccowboyfellowship.com/3c-event/barrell-racing-3/
LOCATION:3C Cowboy Fellowship\, 16258 Gooseneck Rd.\, Salado\, TX\, 76571\, United States
END:VEVENT
BEGIN:VEVENT
DTSTART;TZID=America/Chicago:20260304T180000
DTEND;TZID=America/Chicago:20260304T190000
DTSTAMP:20260423T114005
CREATED:20260227T162349Z
LAST-MODIFIED:20260227T162349Z
UID:5811-1772647200-1772650800@3ccowboyfellowship.com
SUMMARY:Prayer Group
DESCRIPTION:
URL:https://3ccowboyfellowship.com/3c-event/prayer-group-12/
LOCATION:3C Cowboy Fellowship\, 16258 Gooseneck Rd.\, Salado\, TX\, 76571\, United States
END:VEVENT
BEGIN:VEVENT
DTSTART;TZID=America/Chicago:20260304T180000
DTEND;TZID=America/Chicago:20260304T200000
DTSTAMP:20260423T114005
CREATED:20260227T162308Z
LAST-MODIFIED:20260227T162308Z
UID:5809-1772647200-1772654400@3ccowboyfellowship.com
SUMMARY:Pre-Teen / Youth (Kitchen Team)
DESCRIPTION:
URL:https://3ccowboyfellowship.com/3c-event/pre-teen-youth-kitchen-team-2/
LOCATION:3C Cowboy Fellowship\, 16258 Gooseneck Rd.\, Salado\, TX\, 76571\, United States
END:VEVENT
BEGIN:VEVENT
DTSTART;VALUE=DATE:20260306
DTEND;VALUE=DATE:20260307
DTSTAMP:20260423T114005
CREATED:20260227T162431Z
LAST-MODIFIED:20260227T162431Z
UID:5813-1772755200-1772841599@3ccowboyfellowship.com
SUMMARY:Cook Funeral
DESCRIPTION:
URL:https://3ccowboyfellowship.com/3c-event/cook-funeral/
LOCATION:3C Cowboy Fellowship\, 16258 Gooseneck Rd.\, Salado\, TX\, 76571\, United States
END:VEVENT
BEGIN:VEVENT
DTSTART;TZID=America/Chicago:20260307T090000
DTEND;TZID=America/Chicago:20260307T110000
DTSTAMP:20260423T114005
CREATED:20260227T162513Z
LAST-MODIFIED:20260227T162513Z
UID:5815-1772874000-1772881200@3ccowboyfellowship.com
SUMMARY:Ladies Bible Study
DESCRIPTION:
URL:https://3ccowboyfellowship.com/3c-event/ladies-bible-study-11/
LOCATION:3C Cowboy Fellowship\, 16258 Gooseneck Rd.\, Salado\, TX\, 76571\, United States
END:VEVENT
BEGIN:VEVENT
DTSTART;TZID=America/Chicago:20260308T100000
DTEND;TZID=America/Chicago:20260308T110000
DTSTAMP:20260423T114005
CREATED:20260227T162627Z
LAST-MODIFIED:20260227T162658Z
UID:5817-1772964000-1772967600@3ccowboyfellowship.com
SUMMARY:3C Service
DESCRIPTION:
URL:https://3ccowboyfellowship.com/3c-event/3c-service-27/
LOCATION:3C Cowboy Fellowship\, 16258 Gooseneck Rd.\, Salado\, TX\, 76571\, United States
ATTACH;FMTTYPE=image/jpeg:https://3ccowboyfellowship.com/wp-content/uploads/2023/11/sunset-with-three-crosses.jpg
END:VEVENT
BEGIN:VEVENT
DTSTART;TZID=America/Chicago:20260308T110000
DTEND;TZID=America/Chicago:20260308T120000
DTSTAMP:20260423T114005
CREATED:20260227T164928Z
LAST-MODIFIED:20260227T164928Z
UID:5866-1772967600-1772971200@3ccowboyfellowship.com
SUMMARY:Leadership Team
DESCRIPTION:
URL:https://3ccowboyfellowship.com/3c-event/leadership-team-4/
LOCATION:3C Cowboy Fellowship\, 16258 Gooseneck Rd.\, Salado\, TX\, 76571\, United States
END:VEVENT
BEGIN:VEVENT
DTSTART;TZID=America/Chicago:20260309T180000
DTEND;TZID=America/Chicago:20260309T200000
DTSTAMP:20260423T114005
CREATED:20260227T162805Z
LAST-MODIFIED:20260227T162805Z
UID:5819-1773079200-1773086400@3ccowboyfellowship.com
SUMMARY:Mending Fences (Meal 5:30) (Ladies Team)
DESCRIPTION:
URL:https://3ccowboyfellowship.com/3c-event/mending-fences-meal-530-ladies-team-4/
LOCATION:3C Cowboy Fellowship\, 16258 Gooseneck Rd.\, Salado\, TX\, 76571\, United States
END:VEVENT
BEGIN:VEVENT
DTSTART;TZID=America/Chicago:20260310T180000
DTEND;TZID=America/Chicago:20260310T190000
DTSTAMP:20260423T114005
CREATED:20260227T162844Z
LAST-MODIFIED:20260227T162844Z
UID:5821-1773165600-1773169200@3ccowboyfellowship.com
SUMMARY:Facilities Team
DESCRIPTION:
URL:https://3ccowboyfellowship.com/3c-event/facilities-team-3/
LOCATION:3C Cowboy Fellowship\, 16258 Gooseneck Rd.\, Salado\, TX\, 76571\, United States
END:VEVENT
BEGIN:VEVENT
DTSTART;TZID=America/Chicago:20260311T180000
DTEND;TZID=America/Chicago:20260311T190000
DTSTAMP:20260423T114005
CREATED:20260227T165047Z
LAST-MODIFIED:20260227T165047Z
UID:5868-1773252000-1773255600@3ccowboyfellowship.com
SUMMARY:Prayer Group
DESCRIPTION:
URL:https://3ccowboyfellowship.com/3c-event/prayer-group-13/
LOCATION:3C Cowboy Fellowship\, 16258 Gooseneck Rd.\, Salado\, TX\, 76571\, United States
END:VEVENT
BEGIN:VEVENT
DTSTART;TZID=America/Chicago:20260311T180000
DTEND;TZID=America/Chicago:20260311T200000
DTSTAMP:20260423T114005
CREATED:20260227T162954Z
LAST-MODIFIED:20260227T162954Z
UID:5823-1773252000-1773259200@3ccowboyfellowship.com
SUMMARY:Pre-Teen / Youth (Chuckwagon)
DESCRIPTION:
URL:https://3ccowboyfellowship.com/3c-event/pre-teen-youth-chuckwagon/
LOCATION:3C Cowboy Fellowship\, 16258 Gooseneck Rd.\, Salado\, TX\, 76571\, United States
END:VEVENT
BEGIN:VEVENT
DTSTART;TZID=America/Chicago:20260314T080000
DTEND;TZID=America/Chicago:20260314T100000
DTSTAMP:20260423T114005
CREATED:20260308T183052Z
LAST-MODIFIED:20260308T183052Z
UID:5891-1773475200-1773482400@3ccowboyfellowship.com
SUMMARY:Men's Prayer Breakfast
DESCRIPTION:
URL:https://3ccowboyfellowship.com/3c-event/mens-prayer-breakfast-3/
LOCATION:3C Cowboy Fellowship\, 16258 Gooseneck Rd.\, Salado\, TX\, 76571\, United States
END:VEVENT
BEGIN:VEVENT
DTSTART;TZID=America/Chicago:20260314T093000
DTEND;TZID=America/Chicago:20260314T113000
DTSTAMP:20260423T114005
CREATED:20260227T163043Z
LAST-MODIFIED:20260227T163043Z
UID:5825-1773480600-1773487800@3ccowboyfellowship.com
SUMMARY:Horsemanship 101
DESCRIPTION:
URL:https://3ccowboyfellowship.com/3c-event/horsemanship-101/
LOCATION:3C Cowboy Fellowship\, 16258 Gooseneck Rd.\, Salado\, TX\, 76571\, United States
END:VEVENT
BEGIN:VEVENT
DTSTART;VALUE=DATE:20260315
DTEND;VALUE=DATE:20260316
DTSTAMP:20260423T114005
CREATED:20260308T183217Z
LAST-MODIFIED:20260308T183217Z
UID:5893-1773532800-1773619199@3ccowboyfellowship.com
SUMMARY:No Children's Church
DESCRIPTION:
URL:https://3ccowboyfellowship.com/3c-event/no-childrens-church/
LOCATION:3C Cowboy Fellowship\, 16258 Gooseneck Rd.\, Salado\, TX\, 76571\, United States
END:VEVENT
BEGIN:VEVENT
DTSTART;TZID=America/Chicago:20260315T100000
DTEND;TZID=America/Chicago:20260315T110000
DTSTAMP:20260423T114005
CREATED:20260227T163140Z
LAST-MODIFIED:20260227T163140Z
UID:5827-1773568800-1773572400@3ccowboyfellowship.com
SUMMARY:3C Service
DESCRIPTION:
URL:https://3ccowboyfellowship.com/3c-event/3c-service-28/
LOCATION:3C Cowboy Fellowship\, 16258 Gooseneck Rd.\, Salado\, TX\, 76571\, United States
ATTACH;FMTTYPE=image/jpeg:https://3ccowboyfellowship.com/wp-content/uploads/2023/11/sunset-with-three-crosses.jpg
END:VEVENT
BEGIN:VEVENT
DTSTART;TZID=America/Chicago:20260315T110000
DTEND;TZID=America/Chicago:20260315T120000
DTSTAMP:20260423T114005
CREATED:20260308T183340Z
LAST-MODIFIED:20260308T183340Z
UID:5895-1773572400-1773576000@3ccowboyfellowship.com
SUMMARY:Ladies Team Meeting
DESCRIPTION:
URL:https://3ccowboyfellowship.com/3c-event/ladies-team-meeting/
LOCATION:3C Cowboy Fellowship\, 16258 Gooseneck Rd.\, Salado\, TX\, 76571\, United States
END:VEVENT
BEGIN:VEVENT
DTSTART;VALUE=DATE:20260316
DTEND;VALUE=DATE:20260321
DTSTAMP:20260423T114005
CREATED:20260227T163450Z
LAST-MODIFIED:20260227T163450Z
UID:5831-1773619200-1774051199@3ccowboyfellowship.com
SUMMARY:Spring Break
DESCRIPTION:
URL:https://3ccowboyfellowship.com/3c-event/spring-break/
LOCATION:3C Cowboy Fellowship\, 16258 Gooseneck Rd.\, Salado\, TX\, 76571\, United States
END:VEVENT
BEGIN:VEVENT
DTSTART;TZID=America/Chicago:20260316T180000
DTEND;TZID=America/Chicago:20260316T200000
DTSTAMP:20260423T114005
CREATED:20260227T163244Z
LAST-MODIFIED:20260227T163244Z
UID:5829-1773684000-1773691200@3ccowboyfellowship.com
SUMMARY:Mending Fences (Meal 5:30) (Kitchen Team)
DESCRIPTION:
URL:https://3ccowboyfellowship.com/3c-event/mending-fences-meal-530-kitchen-team-4/
LOCATION:3C Cowboy Fellowship\, 16258 Gooseneck Rd.\, Salado\, TX\, 76571\, United States
END:VEVENT
BEGIN:VEVENT
DTSTART;TZID=America/Chicago:20260318T170000
DTEND;TZID=America/Chicago:20260318T200000
DTSTAMP:20260423T114005
CREATED:20260227T163626Z
LAST-MODIFIED:20260227T163626Z
UID:5834-1773853200-1773864000@3ccowboyfellowship.com
SUMMARY:Barrel Racing
DESCRIPTION:
URL:https://3ccowboyfellowship.com/3c-event/barrel-racing/
LOCATION:3C Cowboy Fellowship\, 16258 Gooseneck Rd.\, Salado\, TX\, 76571\, United States
END:VEVENT
BEGIN:VEVENT
DTSTART;TZID=America/Chicago:20260318T180000
DTEND;TZID=America/Chicago:20260318T190000
DTSTAMP:20260423T114005
CREATED:20260227T165131Z
LAST-MODIFIED:20260227T165131Z
UID:5870-1773856800-1773860400@3ccowboyfellowship.com
SUMMARY:Prayer Group
DESCRIPTION:
URL:https://3ccowboyfellowship.com/3c-event/prayer-group-14/
LOCATION:3C Cowboy Fellowship\, 16258 Gooseneck Rd.\, Salado\, TX\, 76571\, United States
END:VEVENT
BEGIN:VEVENT
DTSTART;VALUE=DATE:20260321
DTEND;VALUE=DATE:20260322
DTSTAMP:20260423T114005
CREATED:20260227T163708Z
LAST-MODIFIED:20260227T163708Z
UID:5836-1774051200-1774137599@3ccowboyfellowship.com
SUMMARY:Tyler Magnus Roping
DESCRIPTION:
URL:https://3ccowboyfellowship.com/3c-event/tyler-magnus-roping/
LOCATION:3C Cowboy Fellowship\, 16258 Gooseneck Rd.\, Salado\, TX\, 76571\, United States
END:VEVENT
BEGIN:VEVENT
DTSTART;TZID=America/Chicago:20260321T090000
DTEND;TZID=America/Chicago:20260321T110000
DTSTAMP:20260423T114005
CREATED:20260227T163748Z
LAST-MODIFIED:20260227T163748Z
UID:5838-1774083600-1774090800@3ccowboyfellowship.com
SUMMARY:Ladies Bible Study
DESCRIPTION:
URL:https://3ccowboyfellowship.com/3c-event/ladies-bible-study-12/
LOCATION:3C Cowboy Fellowship\, 16258 Gooseneck Rd.\, Salado\, TX\, 76571\, United States
END:VEVENT
BEGIN:VEVENT
DTSTART;VALUE=DATE:20260322
DTEND;VALUE=DATE:20260323
DTSTAMP:20260423T114005
CREATED:20260227T163943Z
LAST-MODIFIED:20260227T163943Z
UID:5842-1774137600-1774223999@3ccowboyfellowship.com
SUMMARY:Last Day For Candy Collection
DESCRIPTION:
URL:https://3ccowboyfellowship.com/3c-event/last-day-for-candy-collection/
LOCATION:3C Cowboy Fellowship\, 16258 Gooseneck Rd.\, Salado\, TX\, 76571\, United States
END:VEVENT
BEGIN:VEVENT
DTSTART;TZID=America/Chicago:20260322T100000
DTEND;TZID=America/Chicago:20260322T110000
DTSTAMP:20260423T114005
CREATED:20260227T163910Z
LAST-MODIFIED:20260227T163910Z
UID:5840-1774173600-1774177200@3ccowboyfellowship.com
SUMMARY:3C Service
DESCRIPTION:
URL:https://3ccowboyfellowship.com/3c-event/3c-service-29/
LOCATION:3C Cowboy Fellowship\, 16258 Gooseneck Rd.\, Salado\, TX\, 76571\, United States
ATTACH;FMTTYPE=image/jpeg:https://3ccowboyfellowship.com/wp-content/uploads/2023/11/sunset-with-three-crosses.jpg
END:VEVENT
BEGIN:VEVENT
DTSTART;TZID=America/Chicago:20260322T110000
DTEND;TZID=America/Chicago:20260322T120000
DTSTAMP:20260423T114005
CREATED:20260227T164047Z
LAST-MODIFIED:20260227T164047Z
UID:5844-1774177200-1774180800@3ccowboyfellowship.com
SUMMARY:Children's Team
DESCRIPTION:
URL:https://3ccowboyfellowship.com/3c-event/childrens-team-4/
LOCATION:3C Cowboy Fellowship\, 16258 Gooseneck Rd.\, Salado\, TX\, 76571\, United States
END:VEVENT
BEGIN:VEVENT
DTSTART;TZID=America/Chicago:20260323T180000
DTEND;TZID=America/Chicago:20260323T200000
DTSTAMP:20260423T114005
CREATED:20260227T164149Z
LAST-MODIFIED:20260227T164149Z
UID:5846-1774288800-1774296000@3ccowboyfellowship.com
SUMMARY:Mending Fences (Meal 5:30) (Chuckwagon)
DESCRIPTION:
URL:https://3ccowboyfellowship.com/3c-event/mending-fences-meal-530-chuckwagon/
LOCATION:3C Cowboy Fellowship\, 16258 Gooseneck Rd.\, Salado\, TX\, 76571\, United States
END:VEVENT
BEGIN:VEVENT
DTSTART;TZID=America/Chicago:20260324T180000
DTEND;TZID=America/Chicago:20260324T210000
DTSTAMP:20260423T114005
CREATED:20260227T164228Z
LAST-MODIFIED:20260227T164228Z
UID:5848-1774375200-1774386000@3ccowboyfellowship.com
SUMMARY:Bull Riding
DESCRIPTION:
URL:https://3ccowboyfellowship.com/3c-event/bull-riding-5/
LOCATION:3C Cowboy Fellowship\, 16258 Gooseneck Rd.\, Salado\, TX\, 76571\, United States
END:VEVENT
END:VCALENDAR