BEGIN:VCALENDAR
VERSION:2.0
PRODID:-//3C Cowboy Fellowship - ECPv6.15.20//NONSGML v1.0//EN
CALSCALE:GREGORIAN
METHOD:PUBLISH
X-WR-CALNAME:3C Cowboy Fellowship
X-ORIGINAL-URL:https://3ccowboyfellowship.com
X-WR-CALDESC:Events for 3C Cowboy Fellowship
REFRESH-INTERVAL;VALUE=DURATION:PT1H
X-Robots-Tag:noindex
X-PUBLISHED-TTL:PT1H
BEGIN:VTIMEZONE
TZID:America/Chicago
BEGIN:DAYLIGHT
TZOFFSETFROM:-0600
TZOFFSETTO:-0500
TZNAME:CDT
DTSTART:20250309T080000
END:DAYLIGHT
BEGIN:STANDARD
TZOFFSETFROM:-0500
TZOFFSETTO:-0600
TZNAME:CST
DTSTART:20251102T070000
END:STANDARD
BEGIN:DAYLIGHT
TZOFFSETFROM:-0600
TZOFFSETTO:-0500
TZNAME:CDT
DTSTART:20260308T080000
END:DAYLIGHT
BEGIN:STANDARD
TZOFFSETFROM:-0500
TZOFFSETTO:-0600
TZNAME:CST
DTSTART:20261101T070000
END:STANDARD
BEGIN:DAYLIGHT
TZOFFSETFROM:-0600
TZOFFSETTO:-0500
TZNAME:CDT
DTSTART:20270314T080000
END:DAYLIGHT
BEGIN:STANDARD
TZOFFSETFROM:-0500
TZOFFSETTO:-0600
TZNAME:CST
DTSTART:20271107T070000
END:STANDARD
END:VTIMEZONE
BEGIN:VEVENT
DTSTART;VALUE=DATE:20260424
DTEND;VALUE=DATE:20260425
DTSTAMP:20260423T113557
CREATED:20260330T004714Z
LAST-MODIFIED:20260330T004714Z
UID:5981-1776988800-1777075199@3ccowboyfellowship.com
SUMMARY:Annual 3C Trail Ride
DESCRIPTION:
URL:https://3ccowboyfellowship.com/3c-event/annual-3c-trail-ride/
LOCATION:3C Cowboy Fellowship\, 16258 Gooseneck Rd.\, Salado\, TX\, 76571\, United States
END:VEVENT
BEGIN:VEVENT
DTSTART;VALUE=DATE:20260425
DTEND;VALUE=DATE:20260426
DTSTAMP:20260423T113557
CREATED:20260330T004748Z
LAST-MODIFIED:20260330T004748Z
UID:5983-1777075200-1777161599@3ccowboyfellowship.com
SUMMARY:Annual 3C Trail Ride
DESCRIPTION:
URL:https://3ccowboyfellowship.com/3c-event/annual-3c-trail-ride-2/
LOCATION:3C Cowboy Fellowship\, 16258 Gooseneck Rd.\, Salado\, TX\, 76571\, United States
END:VEVENT
BEGIN:VEVENT
DTSTART;TZID=America/Chicago:20260425T080000
DTEND;TZID=America/Chicago:20260425T090000
DTSTAMP:20260423T113557
CREATED:20260405T180944Z
LAST-MODIFIED:20260405T180944Z
UID:6065-1777104000-1777107600@3ccowboyfellowship.com
SUMMARY:Men's Prayer Breakfast
DESCRIPTION:
URL:https://3ccowboyfellowship.com/3c-event/mens-prayer-breakfast-4/
LOCATION:3C Cowboy Fellowship\, 16258 Gooseneck Rd.\, Salado\, TX\, 76571\, United States
END:VEVENT
BEGIN:VEVENT
DTSTART;VALUE=DATE:20260426
DTEND;VALUE=DATE:20260427
DTSTAMP:20260423T113557
CREATED:20260330T004950Z
LAST-MODIFIED:20260330T004950Z
UID:5987-1777161600-1777247999@3ccowboyfellowship.com
SUMMARY:Annual 3C Tail Ride
DESCRIPTION:
URL:https://3ccowboyfellowship.com/3c-event/annual-3c-tail-ride/
LOCATION:3C Cowboy Fellowship\, 16258 Gooseneck Rd.\, Salado\, TX\, 76571\, United States
END:VEVENT
BEGIN:VEVENT
DTSTART;TZID=America/Chicago:20260426T100000
DTEND;TZID=America/Chicago:20260426T110000
DTSTAMP:20260423T113557
CREATED:20260330T004859Z
LAST-MODIFIED:20260330T004859Z
UID:5985-1777197600-1777201200@3ccowboyfellowship.com
SUMMARY:10:00 Service (Lords Supper)
DESCRIPTION:
URL:https://3ccowboyfellowship.com/3c-event/1000-service-lords-supper/
LOCATION:3C Cowboy Fellowship\, 16258 Gooseneck Rd.\, Salado\, TX\, 76571\, United States
END:VEVENT
BEGIN:VEVENT
DTSTART;TZID=America/Chicago:20260427T180000
DTEND;TZID=America/Chicago:20260427T200000
DTSTAMP:20260423T113557
CREATED:20260330T005048Z
LAST-MODIFIED:20260330T005048Z
UID:5989-1777312800-1777320000@3ccowboyfellowship.com
SUMMARY:Mending Fences (Chuckwagon) (Meal 5:30)
DESCRIPTION:
URL:https://3ccowboyfellowship.com/3c-event/mending-fences-chuckwagon-meal-530/
LOCATION:3C Cowboy Fellowship\, 16258 Gooseneck Rd.\, Salado\, TX\, 76571\, United States
END:VEVENT
BEGIN:VEVENT
DTSTART;TZID=America/Chicago:20260429T170000
DTEND;TZID=America/Chicago:20260429T200000
DTSTAMP:20260423T113557
CREATED:20260330T005136Z
LAST-MODIFIED:20260330T005136Z
UID:5991-1777482000-1777492800@3ccowboyfellowship.com
SUMMARY:Barrel Racing
DESCRIPTION:
URL:https://3ccowboyfellowship.com/3c-event/barrel-racing-3/
LOCATION:3C Cowboy Fellowship\, 16258 Gooseneck Rd.\, Salado\, TX\, 76571\, United States
END:VEVENT
BEGIN:VEVENT
DTSTART;TZID=America/Chicago:20260429T180000
DTEND;TZID=America/Chicago:20260429T200000
DTSTAMP:20260423T113557
CREATED:20260330T005229Z
LAST-MODIFIED:20260330T005229Z
UID:5993-1777485600-1777492800@3ccowboyfellowship.com
SUMMARY:Pre Teen / Youth (Missions)
DESCRIPTION:
URL:https://3ccowboyfellowship.com/3c-event/pre-teen-youth-missions-2/
LOCATION:3C Cowboy Fellowship\, 16258 Gooseneck Rd.\, Salado\, TX\, 76571\, United States
END:VEVENT
BEGIN:VEVENT
DTSTART;TZID=America/Chicago:20260429T180000
DTEND;TZID=America/Chicago:20260429T200000
DTSTAMP:20260423T113557
CREATED:20260330T005318Z
LAST-MODIFIED:20260330T005318Z
UID:5995-1777485600-1777492800@3ccowboyfellowship.com
SUMMARY:Prayer Group
DESCRIPTION:
URL:https://3ccowboyfellowship.com/3c-event/prayer-group-19/
LOCATION:3C Cowboy Fellowship\, 16258 Gooseneck Rd.\, Salado\, TX\, 76571\, United States
END:VEVENT
BEGIN:VEVENT
DTSTART;TZID=America/Chicago:20260430T183000
DTEND;TZID=America/Chicago:20260430T193000
DTSTAMP:20260423T113557
CREATED:20260330T005401Z
LAST-MODIFIED:20260330T005401Z
UID:5997-1777573800-1777577400@3ccowboyfellowship.com
SUMMARY:Arena Team
DESCRIPTION:
URL:https://3ccowboyfellowship.com/3c-event/arena-team-3/
LOCATION:3C Cowboy Fellowship\, 16258 Gooseneck Rd.\, Salado\, TX\, 76571\, United States
END:VEVENT
END:VCALENDAR